BEGIN:VCALENDAR
VERSION:2.0
PRODID:-//SPD-Fraktion Lichtenberg - ECPv6.15.20//NONSGML v1.0//EN
CALSCALE:GREGORIAN
METHOD:PUBLISH
X-ORIGINAL-URL:https://spd-fraktion-lichtenberg.de
X-WR-CALDESC:Veranstaltungen für SPD-Fraktion Lichtenberg
REFRESH-INTERVAL;VALUE=DURATION:PT1H
X-Robots-Tag:noindex
X-PUBLISHED-TTL:PT1H
BEGIN:VTIMEZONE
TZID:Europe/Berlin
BEGIN:DAYLIGHT
TZOFFSETFROM:+0100
TZOFFSETTO:+0200
TZNAME:CEST
DTSTART:20230326T010000
END:DAYLIGHT
BEGIN:STANDARD
TZOFFSETFROM:+0200
TZOFFSETTO:+0100
TZNAME:CET
DTSTART:20231029T010000
END:STANDARD
BEGIN:DAYLIGHT
TZOFFSETFROM:+0100
TZOFFSETTO:+0200
TZNAME:CEST
DTSTART:20240331T010000
END:DAYLIGHT
BEGIN:STANDARD
TZOFFSETFROM:+0200
TZOFFSETTO:+0100
TZNAME:CET
DTSTART:20241027T010000
END:STANDARD
BEGIN:DAYLIGHT
TZOFFSETFROM:+0100
TZOFFSETTO:+0200
TZNAME:CEST
DTSTART:20250330T010000
END:DAYLIGHT
BEGIN:STANDARD
TZOFFSETFROM:+0200
TZOFFSETTO:+0100
TZNAME:CET
DTSTART:20251026T010000
END:STANDARD
END:VTIMEZONE
BEGIN:VEVENT
DTSTART;TZID=Europe/Berlin:20241104T190000
DTEND;TZID=Europe/Berlin:20241104T210000
DTSTAMP:20260422T152124
CREATED:20241029T110653Z
LAST-MODIFIED:20241029T110653Z
UID:11636-1730746800-1730754000@spd-fraktion-lichtenberg.de
SUMMARY:Öffentliche Fraktionssitzung: Schulwegsicherheit in Lichtenberg
DESCRIPTION:WANN? Montag\, 4. November 2024 von 19.00 bis 21.00 Uhr\nWO? Kiezspinne FAS e.V.\, Schulze-Boysen-Straße 38\, 10365 Berlin\nWAS? Podium zum Thema: Schulwegsicherheit in Lichtenberg\n\n \n\nAuf dem Podium begrüßen wir Tino Schopf\, SPD (Verkehrspolitischer Sprecher im Abgeordnetenhaus)\, Sandy Mattes\, SPD (Bezirksstadträtin für Schule und Sport)\, und Steffen Reinecke (Vorsitz Bezirkselternausschuss und Bezirksschulbeirat Lichtenberg\, Landeselternausschuss und Vorstand Landesschulbeirat Berlin). Zu den Teilnehmenden gehören u.a. die BVV-Verordneten unserer Fraktion.
URL:https://spd-fraktion-lichtenberg.de/kalender/oeffentliche-fraktionssitzung-schulwegsicherheit-in-lichtenberg/
LOCATION:Kiezspinne\, Schulze-Boysen-Straße 38\, Berlin\, 10365
CATEGORIES:Podien & Talks
ATTACH;FMTTYPE=image/jpeg:https://spd-fraktion-lichtenberg.de/wp-content/uploads/2024/10/Oeffentliche-Fraktionssitzung-Schulwegsicherheit.jpg
END:VEVENT
BEGIN:VEVENT
DTSTART;TZID=Europe/Berlin:20241109T100000
DTEND;TZID=Europe/Berlin:20241109T110000
DTSTAMP:20260422T152124
CREATED:20241029T113754Z
LAST-MODIFIED:20241029T113754Z
UID:11643-1731146400-1731150000@spd-fraktion-lichtenberg.de
SUMMARY:Gedenken der Opfer der Pogromnacht
DESCRIPTION:Am 9. November erinnert der Bezirk in einer Gedenkveranstaltung an die Opfer der Pogromnacht von 1938\, als jüdische Mitbürgerinnen und Mitbürger verfolgt und ermordet wurden und Synagogen und Geschäfte in ganz Deutschland in Flammen aufgingen. Die Veranstaltung findet von 10 bis 11 Uhr am Gedenkstein für die ehemalige Synagoge in Hohenschönhausen statt. \nGemeinsam möchten wir innehalten und der Opfer gedenken. In dieser Stunde der Erinnerung setzen wir ein Zeichen gegen Antisemitismus und für ein respektvolles\, friedliches Miteinander.\nWir laden alle herzlich ein\, an dieser Gedenkveranstaltung teilzunehmen\, um gemeinsam ein Zeichen der Erinnerung und des Zusammenhalts zu setzen.
URL:https://spd-fraktion-lichtenberg.de/kalender/gedenken-der-opfer-der-pogromnacht/
LOCATION:Gedenkstein ehemalige Synagoge\, Konrad-Wolf-Straße 92\, Berlin\, Berlin\, 13055
ATTACH;FMTTYPE=image/jpeg:https://spd-fraktion-lichtenberg.de/wp-content/uploads/2024/10/Gedenken-Pogromnacht-9.11.jpg
END:VEVENT
BEGIN:VEVENT
DTSTART;TZID=Europe/Berlin:20241115T180000
DTEND;TZID=Europe/Berlin:20241115T190000
DTSTAMP:20260422T152124
CREATED:20241029T123240Z
LAST-MODIFIED:20241029T123240Z
UID:11654-1731693600-1731697200@spd-fraktion-lichtenberg.de
SUMMARY:Sprechstunde mit dem Fraktionsvorsitzenden
DESCRIPTION:Am 15.10. ist es wieder soweit: unser Fraktionsvorsitzender\, Kevin Einenkel\, bietet seine monatliche Sprechstunde an! Ab 18:00 Uhr nimmt er sich Zeit\, Ihnen Frage und Antwort zu stehen. Kommen Sie gern vorbei\, nach einer vorherigen Anmeldung. Telefonisch unter der (030) 902 963 160 Per Mail an: info@spd-fraktion-lichtenberg.de
URL:https://spd-fraktion-lichtenberg.de/kalender/sprechstunde-mit-dem-fraktionsvorsitzenden-2/
LOCATION:Rathaus Lichtenberg\, Raum 13a\, Möllendorffstr. 6\, Berlin\, 10367
CATEGORIES:Sprechstunde
ATTACH;FMTTYPE=image/jpeg:https://spd-fraktion-lichtenberg.de/wp-content/uploads/2024/09/Kevin-Einenkel-Sprechstunde.jpg
ORGANIZER;CN="SPD-Fraktion-Lichtenberg":MAILTO:info@spd-fraktion-lichtenberg.de
END:VEVENT
BEGIN:VEVENT
DTSTART;TZID=Europe/Berlin:20241122T190000
DTEND;TZID=Europe/Berlin:20241122T210000
DTSTAMP:20260422T152124
CREATED:20241029T112633Z
LAST-MODIFIED:20241029T113854Z
UID:11638-1732302000-1732309200@spd-fraktion-lichtenberg.de
SUMMARY:Deutsch-Vietnamesischer Kurzfilmabend von Tamara Lüdke (MdA)
DESCRIPTION:Am 22. November lädt Tamara Lüdke\, Mitglied des Abgeordnetenhauses für die SPD\, zu einem deutsch-vietnamesischen Kurzfilmabend ins Weite Theater ein: \nLichtenberg ohne vietnamesische Kultur? Kaum vorstellbar!\nDennoch wird die Community oft übersehen. \nUm ihre Perspektiven und Geschichten sichtbarer zu machen\, lädt Tamara Lüdke am 22. November um 19 Uhr zu einem deutsch-vietnamesischen Kurzfilmabend in das Weite Theater ein. Gezeigt werden zwei außergewöhnliche Filme: Dunkelblau\, wie ich mich fühle und Made in Germany. Diese Kurzfilme beleuchten auf unterschiedliche Weise die Lebenswelten vietnamesisch-deutscher Menschen und schaffen Raum für Gespräche über Identität\, Heimat und das Leben zwischen zwei Kulturen. \nAnschließend an die Filme haben Sie die Möglichkeit\, mit dem Regisseur Duc Ngo Ngoc und den Darsteller*innen ins Gespräch zu kommen. \nWir freuen uns auf Ihr Kommen!
URL:https://spd-fraktion-lichtenberg.de/kalender/deutsch-vietnamesischer-kurzfilmabend-von-tamara-luedke-mda/
LOCATION:Das Weite Theater\, Storkower Str 207\, Berlin\, Berlin\, 10369\, Deutschland
CATEGORIES:Feste & Feiern,Podien & Talks
ATTACH;FMTTYPE=image/jpeg:https://spd-fraktion-lichtenberg.de/wp-content/uploads/2024/10/Deutsch-Vietnamesischer-Kurzfilmabend.jpg
END:VEVENT
END:VCALENDAR