BEGIN:VCALENDAR
VERSION:2.0
PRODID:-//SPD-Fraktion Lichtenberg - ECPv6.15.20//NONSGML v1.0//EN
CALSCALE:GREGORIAN
METHOD:PUBLISH
X-ORIGINAL-URL:https://spd-fraktion-lichtenberg.de
X-WR-CALDESC:Veranstaltungen für SPD-Fraktion Lichtenberg
REFRESH-INTERVAL;VALUE=DURATION:PT1H
X-Robots-Tag:noindex
X-PUBLISHED-TTL:PT1H
BEGIN:VTIMEZONE
TZID:Europe/Berlin
BEGIN:DAYLIGHT
TZOFFSETFROM:+0100
TZOFFSETTO:+0200
TZNAME:CEST
DTSTART:20230326T010000
END:DAYLIGHT
BEGIN:STANDARD
TZOFFSETFROM:+0200
TZOFFSETTO:+0100
TZNAME:CET
DTSTART:20231029T010000
END:STANDARD
BEGIN:DAYLIGHT
TZOFFSETFROM:+0100
TZOFFSETTO:+0200
TZNAME:CEST
DTSTART:20240331T010000
END:DAYLIGHT
BEGIN:STANDARD
TZOFFSETFROM:+0200
TZOFFSETTO:+0100
TZNAME:CET
DTSTART:20241027T010000
END:STANDARD
BEGIN:DAYLIGHT
TZOFFSETFROM:+0100
TZOFFSETTO:+0200
TZNAME:CEST
DTSTART:20250330T010000
END:DAYLIGHT
BEGIN:STANDARD
TZOFFSETFROM:+0200
TZOFFSETTO:+0100
TZNAME:CET
DTSTART:20251026T010000
END:STANDARD
END:VTIMEZONE
BEGIN:VEVENT
DTSTART;VALUE=DATE:20240906
DTEND;VALUE=DATE:20240907
DTSTAMP:20260422T180618
CREATED:20240813T123808Z
LAST-MODIFIED:20240813T123808Z
UID:11549-1725580800-1725667199@spd-fraktion-lichtenberg.de
SUMMARY:Septemberfeuer 2024
DESCRIPTION:Auch in diesem Jahr lädt die SPD Alt-Lichtenberg zu ihrem Septemberfeuer in die Kiezspinne ein.\nDabei wird auch wieder der Frida-Rosenthal-Preis vergeben werden!\nKommt vorbei für einen Nachmittag und Abend mit Spiel\, Spaß\, etwas fürs leibliche Wohl und guten Gesprächen!
URL:https://spd-fraktion-lichtenberg.de/kalender/septemberfeuer-2024/
LOCATION:Kiezspinne\, Schulze-Boysen-Straße 38\, Berlin\, 10365
CATEGORIES:Feste & Feiern
ATTACH;FMTTYPE=image/jpeg:https://spd-fraktion-lichtenberg.de/wp-content/uploads/2024/08/Septemberfeuer.jpg
END:VEVENT
BEGIN:VEVENT
DTSTART;TZID=Europe/Berlin:20240907T140000
DTEND;TZID=Europe/Berlin:20240907T220000
DTSTAMP:20260422T180618
CREATED:20240813T124309Z
LAST-MODIFIED:20240813T124309Z
UID:11552-1725717600-1725746400@spd-fraktion-lichtenberg.de
SUMMARY:18. Seenfest am Orankesee
DESCRIPTION:Auch in diesem Jahr richtet der Förderverein Obersee-Orankesee sein Seenfest aus.\nHier ein kleiner Ausschnitt der Einladung: \n„Kosmisches Spektakel: Mit riesigen Weltraumobjekten\, Trapezkunst an einer Flugmaschine\, einer Reise ins Weltall und Major Tom lädt Das Seenfest im Strandbad Orankesee in Berlin-Lichtenberg am 7. September alle kleinen und großen Gäste ein. Die Türen öffnen um 13 Uhr. Das Programm beginnt um 14 Uhr und endet um 22 Uhr. Mehr Informationen gibt es hier.“ \nAlles weitere finden Sie auf der Website: https://www.obersee-orankesee.de/projekte/seenfest/
URL:https://spd-fraktion-lichtenberg.de/kalender/18-seenfest-am-orankesee/
LOCATION:Strandbad Orankesee\, Gertrudstraße 7\, Berlin\, 13053
CATEGORIES:Feste & Feiern
ATTACH;FMTTYPE=image/jpeg:https://spd-fraktion-lichtenberg.de/wp-content/uploads/2024/08/Strandbad-Orankesee.jpg
END:VEVENT
BEGIN:VEVENT
DTSTART;TZID=Europe/Berlin:20240908T123000
DTEND;TZID=Europe/Berlin:20240908T183000
DTSTAMP:20260422T180618
CREATED:20240813T124657Z
LAST-MODIFIED:20240813T124657Z
UID:11555-1725798600-1725820200@spd-fraktion-lichtenberg.de
SUMMARY:Familienrenntag auf der Trabrennbahn
DESCRIPTION:Der Familienrenntag auf der Trabbrennbahn Karlshorst findet dieses Jahr am 08.09. statt.\nErleben Sie einen Tag mit zahlreichen Aktionen. Kommen Sie ins Gespräch mit Akteuren aus dem Bezirk\, sehen den Trabern beim Rennen zu\, lassen Sie es sich rundum gut gehen bei Speis und Trank.
URL:https://spd-fraktion-lichtenberg.de/kalender/familienrenntag-auf-der-trabrennbahn/
LOCATION:Trabrennbahn Karlshorst\, Treskowallee 159\, Berlin\, 10318
ATTACH;FMTTYPE=image/jpeg:https://spd-fraktion-lichtenberg.de/wp-content/uploads/2024/08/Familienrenntag.jpg
END:VEVENT
END:VCALENDAR