BEGIN:VCALENDAR
VERSION:2.0
PRODID:-//SPD-Fraktion Lichtenberg - ECPv6.15.20//NONSGML v1.0//EN
CALSCALE:GREGORIAN
METHOD:PUBLISH
X-ORIGINAL-URL:https://spd-fraktion-lichtenberg.de
X-WR-CALDESC:Veranstaltungen für SPD-Fraktion Lichtenberg
REFRESH-INTERVAL;VALUE=DURATION:PT1H
X-Robots-Tag:noindex
X-PUBLISHED-TTL:PT1H
BEGIN:VTIMEZONE
TZID:Europe/Berlin
BEGIN:DAYLIGHT
TZOFFSETFROM:+0100
TZOFFSETTO:+0200
TZNAME:CEST
DTSTART:20230326T010000
END:DAYLIGHT
BEGIN:STANDARD
TZOFFSETFROM:+0200
TZOFFSETTO:+0100
TZNAME:CET
DTSTART:20231029T010000
END:STANDARD
BEGIN:DAYLIGHT
TZOFFSETFROM:+0100
TZOFFSETTO:+0200
TZNAME:CEST
DTSTART:20240331T010000
END:DAYLIGHT
BEGIN:STANDARD
TZOFFSETFROM:+0200
TZOFFSETTO:+0100
TZNAME:CET
DTSTART:20241027T010000
END:STANDARD
BEGIN:DAYLIGHT
TZOFFSETFROM:+0100
TZOFFSETTO:+0200
TZNAME:CEST
DTSTART:20250330T010000
END:DAYLIGHT
BEGIN:STANDARD
TZOFFSETFROM:+0200
TZOFFSETTO:+0100
TZNAME:CET
DTSTART:20251026T010000
END:STANDARD
END:VTIMEZONE
BEGIN:VEVENT
DTSTART;TZID=Europe/Berlin:20240822T150000
DTEND;TZID=Europe/Berlin:20240822T190000
DTSTAMP:20260422T192855
CREATED:20240813T121312Z
LAST-MODIFIED:20240813T122254Z
UID:11539-1724338800-1724353200@spd-fraktion-lichtenberg.de
SUMMARY:Sommerfest für Alle
DESCRIPTION:Das Sommerfest für Alle – Feiern ohne Barrieren findet dieses Jahr am 22.08. statt. \nMit Flohmarkt\, (Kinder)-Schminken\, Live-Musik\, Basteln\, Spielen\, Essen und Getränken. \nAdresse: Auf der Wiese zwischen der Schöneicher und der Freienwalder Straße\, 13055 Berlin
URL:https://spd-fraktion-lichtenberg.de/kalender/sommerfest-fuer-alle/
LOCATION:Schöneicherstraße\, Schöneicher Straße 10A\, Berlin\, 13055
CATEGORIES:Feste & Feiern
ATTACH;FMTTYPE=image/jpeg:https://spd-fraktion-lichtenberg.de/wp-content/uploads/2024/08/Sommerfest.jpg
END:VEVENT
BEGIN:VEVENT
DTSTART;TZID=Europe/Berlin:20240823T170000
DTEND;TZID=Europe/Berlin:20240823T190000
DTSTAMP:20260422T192855
CREATED:20240813T122032Z
LAST-MODIFIED:20240813T122032Z
UID:11542-1724432400-1724439600@spd-fraktion-lichtenberg.de
SUMMARY:Open Air Konzert "40 Jahre Hohenschönhausen"
DESCRIPTION:Anlässlich des Jubiläums „40 Jahre Hohenschönhausen“ findet am 23. August von 17:00 bis 19:00 Uhr auf dem Vorplatz des S-Bahnhof Wartenberg ein Open Air Konzert statt. Die Veranstaltung ist öffentlich. Wir freuen uns drauf!
URL:https://spd-fraktion-lichtenberg.de/kalender/open-air-konzert-40-jahre-hohenschoenhausen/
LOCATION:S-Bahnhof Wartenberg\, Wartenberg\, Vorplatz\, Berlin\, 13059
ATTACH;FMTTYPE=image/jpeg:https://spd-fraktion-lichtenberg.de/wp-content/uploads/2024/07/pexels-pixabay-164879-scaled.jpg
END:VEVENT
BEGIN:VEVENT
DTSTART;TZID=Europe/Berlin:20240831T110000
DTEND;TZID=Europe/Berlin:20240831T170000
DTSTAMP:20260422T192855
CREATED:20240813T123447Z
LAST-MODIFIED:20240813T123447Z
UID:11545-1725102000-1725123600@spd-fraktion-lichtenberg.de
SUMMARY:Kinderfest im Strandbad Orankesee
DESCRIPTION:Auch in diesem Jahr laden die SPD Alt-Hohenschönhausen und die SPD Neu-Hohenschönhausen Familien aus ganz Lichtenberg zu ihrem Kinderfest im Strandbad Orankesee ein!\nKommt vorbei und verbringt einen tollen Tag am Oranksee mit Spiel\, Spaß und Plantschen!
URL:https://spd-fraktion-lichtenberg.de/kalender/kinderfest-im-strandbad-orankesee/
LOCATION:Strandbad Orankesee\, Gertrudstraße 7\, Berlin\, 13053
CATEGORIES:Feste & Feiern
ATTACH;FMTTYPE=image/jpeg:https://spd-fraktion-lichtenberg.de/wp-content/uploads/2024/08/Kinderfest-Orankesee.jpg
END:VEVENT
END:VCALENDAR