BEGIN:VCALENDAR
VERSION:2.0
PRODID:-//SPD-Fraktion Lichtenberg - ECPv6.15.20//NONSGML v1.0//EN
CALSCALE:GREGORIAN
METHOD:PUBLISH
X-WR-CALNAME:SPD-Fraktion Lichtenberg
X-ORIGINAL-URL:https://spd-fraktion-lichtenberg.de
X-WR-CALDESC:Veranstaltungen für SPD-Fraktion Lichtenberg
REFRESH-INTERVAL;VALUE=DURATION:PT1H
X-Robots-Tag:noindex
X-PUBLISHED-TTL:PT1H
BEGIN:VTIMEZONE
TZID:Europe/Berlin
BEGIN:DAYLIGHT
TZOFFSETFROM:+0100
TZOFFSETTO:+0200
TZNAME:CEST
DTSTART:20230326T010000
END:DAYLIGHT
BEGIN:STANDARD
TZOFFSETFROM:+0200
TZOFFSETTO:+0100
TZNAME:CET
DTSTART:20231029T010000
END:STANDARD
BEGIN:DAYLIGHT
TZOFFSETFROM:+0100
TZOFFSETTO:+0200
TZNAME:CEST
DTSTART:20240331T010000
END:DAYLIGHT
BEGIN:STANDARD
TZOFFSETFROM:+0200
TZOFFSETTO:+0100
TZNAME:CET
DTSTART:20241027T010000
END:STANDARD
BEGIN:DAYLIGHT
TZOFFSETFROM:+0100
TZOFFSETTO:+0200
TZNAME:CEST
DTSTART:20250330T010000
END:DAYLIGHT
BEGIN:STANDARD
TZOFFSETFROM:+0200
TZOFFSETTO:+0100
TZNAME:CET
DTSTART:20251026T010000
END:STANDARD
END:VTIMEZONE
BEGIN:VEVENT
DTSTART;TZID=Europe/Berlin:20240418T170000
DTEND;TZID=Europe/Berlin:20240418T220000
DTSTAMP:20260423T003518
CREATED:20240417T132537Z
LAST-MODIFIED:20240417T132918Z
UID:11410-1713459600-1713477600@spd-fraktion-lichtenberg.de
SUMMARY:BVV im April
DESCRIPTION:Am Donnerstag den 18.04. findet die BVV (Bezirksverordnetenversammlung) im April statt.\nAuch wir sind wieder mit verschiedensten Initiativen vertreten\, so zum Beispiel:\nDS/1045/IX – Errichtung einer jüdischen Begegnungsstätte in Lichtenberg.\nDiese Initiative ist bereits eine Weile unterwegs gewesen seit ihrer Einbringung im Januar 2024. Hierzu liegt uns nach der weiterführenden Beratung in mehreren Ausschüssen nun eine positive Beschlussempfehlung vor. Wir hoffen\, dass die BVV diesem Anliegen folgt! \nDS/1187/IX – Musikalisches Schostakowitschjahr\nMit diesem Antrag möchten wir erreichen\, dass anlässlich des 50. Todestages von Dmitri Schostakowitsch gemeinsam mit der Schostakowitsch-Musikschule das Jahr 2025 zum musikalischen Schostakowitschjahr erklärt wird. Hierzu soll ein Konzept erarbeitet werden\, um mit Konzerten\, Workshops und weiteren Veranstaltungen auf die Musik und das Leben von Dmitri Schostakowitsch hinzuweisen. In die Umsetzung sind sowohl die Musikschule als auch die Grund- und Oberschulen (Musikunterricht) einzubeziehen. \nDS/1202/IX – Planungsziel B-Plan 11-163 Buchberger Straße auf Mischgebiet oder Urbanes Gebiet ändern\nDas Bezirksamt wird mit dieser Initiative von uns ersucht\, die Planungsabsicht des Bebauungsplangebietes 11-163 in ein Mischgebiet oder Urbanes Gebiet zu ändern. Über das Verhältnis von Gewerbe- zu Wohnflächen und die Bebauungsdichte soll eine Verständigung mit dem Vorhabenträger gesucht werden\, wobei die Wohnqualität im Fokus stehen soll.\nFerner soll der Bedarf für das vom Vorhabenträger angebotene Schulgrundstück nochmals geprüft werden – diesmal unter Einbeziehung des zusätzlich projektierten Wohnungsbaus.\nZur weiteren Realisierung dieser Änderung der Planungsabsicht wird das Bezirksamt ersucht\, eine entsprechende Anpassung des Flächennutzungsplans zu beantragen. \nDS/1203/IX – Schnelle Nutzung des Grundstücks Gotlindestraße/Siegfriedstraße ermöglichen\nMittels dieser Initiative ersuchen wir das Bezirksamt darum\, für das bislang für die Errichtung einer Kita geplante Grundstück Gotlindestraße/Ecke Siegfriedstraße schnellstmöglich eine neue Nutzung zu finden. In die Entwicklung der künftigen Nutzung sollen die Anwohner*innen und die umliegenden Kinder- und Jugendeinrichtungen einbezogen werden. Das Beteiligungsverfahren soll über eine bloße Information hinausgehen und es allen interessierten Anwohner*innen und den Nutzer*innen der genannten Einrichtungen ermöglichen\, über die künftige Nutzung mitzuentscheiden. \nDS/1204/IX – Vermietung von Räumen des Bezirksamtes Lichtenberg\nUnd zu guter Letzt regen wir an\, die Mieten für die Vermietung von Räumlichkeiten in den Dienstgebäuden marktgerecht anzuheben. Hierzu sind Vergleiche mit den Mietpreisen anderer Anbieter heranzuziehen. Das Angebot an mietbaren Räumlichkeiten soll mitsamt Konditionen und Mietbedingungen auf den Internetseiten des Bezirksamtes veröffentlicht werden. \nUpdates dazu\, was aus unseren Initiativen geworden ist\, folgen Ende April in unserem Newsletter – noch nicht angemeldet? Dann kannst du es hier nachholen!\n  \n 
URL:https://spd-fraktion-lichtenberg.de/kalender/bvv-im-april/
LOCATION:Dong Xuan Haus\, Herzbergstraße 129\, Berlin\, Berlin\, 10365\, Deutschland
CATEGORIES:BVV-Sitzung
ATTACH;FMTTYPE=image/jpeg:https://spd-fraktion-lichtenberg.de/wp-content/uploads/2024/04/rathaus-lichtenberg.jpg
ORGANIZER;CN="SPD-Fraktion-Lichtenberg":MAILTO:info@spd-fraktion-lichtenberg.de
END:VEVENT
END:VCALENDAR