BEGIN:VCALENDAR
VERSION:2.0
PRODID:-//SPD-Fraktion Lichtenberg - ECPv6.15.20//NONSGML v1.0//EN
CALSCALE:GREGORIAN
METHOD:PUBLISH
X-ORIGINAL-URL:https://spd-fraktion-lichtenberg.de
X-WR-CALDESC:Veranstaltungen für SPD-Fraktion Lichtenberg
REFRESH-INTERVAL;VALUE=DURATION:PT1H
X-Robots-Tag:noindex
X-PUBLISHED-TTL:PT1H
BEGIN:VTIMEZONE
TZID:Europe/Berlin
BEGIN:DAYLIGHT
TZOFFSETFROM:+0100
TZOFFSETTO:+0200
TZNAME:CEST
DTSTART:20210328T010000
END:DAYLIGHT
BEGIN:STANDARD
TZOFFSETFROM:+0200
TZOFFSETTO:+0100
TZNAME:CET
DTSTART:20211031T010000
END:STANDARD
BEGIN:DAYLIGHT
TZOFFSETFROM:+0100
TZOFFSETTO:+0200
TZNAME:CEST
DTSTART:20220327T010000
END:DAYLIGHT
BEGIN:STANDARD
TZOFFSETFROM:+0200
TZOFFSETTO:+0100
TZNAME:CET
DTSTART:20221030T010000
END:STANDARD
BEGIN:DAYLIGHT
TZOFFSETFROM:+0100
TZOFFSETTO:+0200
TZNAME:CEST
DTSTART:20230326T010000
END:DAYLIGHT
BEGIN:STANDARD
TZOFFSETFROM:+0200
TZOFFSETTO:+0100
TZNAME:CET
DTSTART:20231029T010000
END:STANDARD
END:VTIMEZONE
BEGIN:VEVENT
DTSTART;TZID=Europe/Berlin:20220510T190000
DTEND;TZID=Europe/Berlin:20220510T220000
DTSTAMP:20260424T055026
CREATED:20220509T130524Z
LAST-MODIFIED:20220509T130524Z
UID:9371-1652209200-1652220000@spd-fraktion-lichtenberg.de
SUMMARY:Ausschuss Europa/ Wirtschaftsförderung/ Sozialraumsteuerung
DESCRIPTION:Am 10. Mai tagt der Ausschuss EuWiSo im Rathaus Lichtenberg ind Raum 100
URL:https://spd-fraktion-lichtenberg.de/kalender/ausschuss-europa-wirtschaftsfoerderung-sozialraumsteuerung/
LOCATION:Rathaus Lichtenberg\, Raum 100\, Möllendorffstr. 6\, Berlin\, 10367
END:VEVENT
BEGIN:VEVENT
DTSTART;TZID=Europe/Berlin:20220511T190000
DTEND;TZID=Europe/Berlin:20220511T220000
DTSTAMP:20260424T055026
CREATED:20220509T130729Z
LAST-MODIFIED:20220509T130729Z
UID:9374-1652295600-1652306400@spd-fraktion-lichtenberg.de
SUMMARY:Ausschuss öffentliche Ordnung und Verkehr
DESCRIPTION:Der Ausschuss öOV tagt am 11. Mai im Rathaus im Raum 100
URL:https://spd-fraktion-lichtenberg.de/kalender/ausschuss-oeffentliche-ordnung-und-verkehr/
LOCATION:Rathaus Lichtenberg\, Raum 100\, Möllendorffstr. 6\, Berlin\, 10367
END:VEVENT
BEGIN:VEVENT
DTSTART;TZID=Europe/Berlin:20220512T190000
DTEND;TZID=Europe/Berlin:20220512T220000
DTSTAMP:20260424T055026
CREATED:20220509T131000Z
LAST-MODIFIED:20220509T131000Z
UID:9377-1652382000-1652392800@spd-fraktion-lichtenberg.de
SUMMARY:Ausschuss ökologische Stadtentwicklung/ Mieter*innenschutz/ Facility Management
DESCRIPTION:Der Ausschuss öSMFM tagt am 12. Mai im Rathaus\, Raum 100
URL:https://spd-fraktion-lichtenberg.de/kalender/ausschuss-oekologische-stadtentwicklung-mieterinnenschutz-facility-management/
LOCATION:Rathaus Lichtenberg\, Raum 100\, Möllendorffstr. 6\, Berlin\, 10367
END:VEVENT
BEGIN:VEVENT
DTSTART;TZID=Europe/Berlin:20220514T100000
DTEND;TZID=Europe/Berlin:20220514T120000
DTSTAMP:20260424T055026
CREATED:20220513T093132Z
LAST-MODIFIED:20220513T093132Z
UID:9386-1652522400-1652529600@spd-fraktion-lichtenberg.de
SUMMARY:FAN.Läuft
DESCRIPTION:FAN.Läuft – ein Lauf durch die Frankfurter Allee Nord\, Start ist am Zentralfriedhof Friedrichsfelde\, Ende am Roedeliusplatz.
URL:https://spd-fraktion-lichtenberg.de/kalender/fan-laeuft/
LOCATION:Berlin
END:VEVENT
BEGIN:VEVENT
DTSTART;TZID=Europe/Berlin:20220516T183000
DTEND;TZID=Europe/Berlin:20220516T220000
DTSTAMP:20260424T055026
CREATED:20220513T092827Z
LAST-MODIFIED:20220513T092827Z
UID:9383-1652725800-1652738400@spd-fraktion-lichtenberg.de
SUMMARY:Fraktionssitzung
DESCRIPTION:Die Fraktionsmitglieder und die Bürgerdeputierten kommen zusammen\, um unter Anderem die Initiativen für die BVV im Mai zu besprechen.
URL:https://spd-fraktion-lichtenberg.de/kalender/fraktionssitzung-8/
LOCATION:Rathaus Lichtenberg\, Raum 13a\, Möllendorffstr. 6\, Berlin\, 10367
END:VEVENT
BEGIN:VEVENT
DTSTART;TZID=Europe/Berlin:20220517T170000
DTEND;TZID=Europe/Berlin:20220517T210000
DTSTAMP:20260424T055026
CREATED:20220513T092645Z
LAST-MODIFIED:20220513T092645Z
UID:9380-1652806800-1652821200@spd-fraktion-lichtenberg.de
SUMMARY:Frühlingsempfang bei SozDia
DESCRIPTION:Vertreter*innen aus Fraktion\, dem AGH und dem Kreis werden beim Frühlingsempfang von SozDia vor Ort dabei sein.
URL:https://spd-fraktion-lichtenberg.de/kalender/fruehlingsempfang-bei-sozdia/
LOCATION:Berlin
END:VEVENT
BEGIN:VEVENT
DTSTART;TZID=Europe/Berlin:20220518T190000
DTEND;TZID=Europe/Berlin:20220518T220000
DTSTAMP:20260424T055026
CREATED:20220513T100913Z
LAST-MODIFIED:20220513T100913Z
UID:9404-1652900400-1652911200@spd-fraktion-lichtenberg.de
SUMMARY:Ausschuss Eingaben und Beschwerden
DESCRIPTION:Der Ausschuss tagt am 18. Mai im Rathaus
URL:https://spd-fraktion-lichtenberg.de/kalender/ausschuss-eingaben-und-beschwerden-2/
LOCATION:Rathaus Lichtenberg\, Raum 100\, Möllendorffstr. 6\, Berlin\, 10367
END:VEVENT
BEGIN:VEVENT
DTSTART;TZID=Europe/Berlin:20220519T170000
DTEND;TZID=Europe/Berlin:20220519T220000
DTSTAMP:20260424T055026
CREATED:20220513T093345Z
LAST-MODIFIED:20220513T093345Z
UID:9389-1652979600-1652997600@spd-fraktion-lichtenberg.de
SUMMARY:BVV im Mai
DESCRIPTION:Zur BVV kommen alle Verordneten der unterschiedlichen Parteien zusammen und beraten über die vorliegenden Drucksachen.\nDas Ganze kann Live von Zuhause aus im Stream mitverfolgt werden.
URL:https://spd-fraktion-lichtenberg.de/kalender/bvv-im-mai/
LOCATION:Berlin
END:VEVENT
BEGIN:VEVENT
DTSTART;TZID=Europe/Berlin:20220521T100000
DTEND;TZID=Europe/Berlin:20220521T110000
DTSTAMP:20260424T055026
CREATED:20220513T094320Z
LAST-MODIFIED:20220513T094320Z
UID:9392-1653127200-1653130800@spd-fraktion-lichtenberg.de
SUMMARY:Treffen im Ilse-Kiez
DESCRIPTION:Vertreter*innen der Fraktion treffen sich mit Vertreter*innen der Initiative Ilse-Kiez
URL:https://spd-fraktion-lichtenberg.de/kalender/treffen-im-ilse-kiez/
LOCATION:Berlin
END:VEVENT
BEGIN:VEVENT
DTSTART;TZID=Europe/Berlin:20220524T180000
DTEND;TZID=Europe/Berlin:20220524T200000
DTSTAMP:20260424T055026
CREATED:20220513T094656Z
LAST-MODIFIED:20220513T094656Z
UID:9395-1653415200-1653422400@spd-fraktion-lichtenberg.de
SUMMARY:BVV meets Europe
DESCRIPTION:Vertreter*innen der Fraktion werden an diesem Vernetzungstreffen für Kommunalpolitiker*innen teilnehmen.
URL:https://spd-fraktion-lichtenberg.de/kalender/bvv-meets-europe/
LOCATION:Berlin
END:VEVENT
BEGIN:VEVENT
DTSTART;TZID=Europe/Berlin:20220525T100000
DTEND;TZID=Europe/Berlin:20220525T110000
DTSTAMP:20260424T055026
CREATED:20220513T094847Z
LAST-MODIFIED:20220513T094847Z
UID:9398-1653472800-1653476400@spd-fraktion-lichtenberg.de
SUMMARY:Treffen mit WIR e.V. / Dialog e.V.
DESCRIPTION:Unser Fraktionsvorsitzender trifft sich zum Gespräch mit dem WIR e.V. und Dialog e.V.
URL:https://spd-fraktion-lichtenberg.de/kalender/treffen-mit-wir-e-v-dialog-e-v/
LOCATION:Berlin
END:VEVENT
BEGIN:VEVENT
DTSTART;TZID=Europe/Berlin:20220530T183000
DTEND;TZID=Europe/Berlin:20220530T220000
DTSTAMP:20260424T055026
CREATED:20220513T094939Z
LAST-MODIFIED:20220513T094939Z
UID:9401-1653935400-1653948000@spd-fraktion-lichtenberg.de
SUMMARY:Fraktionssitzung
DESCRIPTION:Die Fraktion und die Bürgerdeputierten kommen zusammen\, um die vergangene BVV auszuwerten und über neue Themen und Initiativen zu beraten.
URL:https://spd-fraktion-lichtenberg.de/kalender/fraktionssitzung-9/
LOCATION:Berlin
END:VEVENT
END:VCALENDAR