BEGIN:VCALENDAR
VERSION:2.0
PRODID:-//SPD-Fraktion Lichtenberg - ECPv6.15.20//NONSGML v1.0//EN
CALSCALE:GREGORIAN
METHOD:PUBLISH
X-ORIGINAL-URL:https://spd-fraktion-lichtenberg.de
X-WR-CALDESC:Veranstaltungen für SPD-Fraktion Lichtenberg
REFRESH-INTERVAL;VALUE=DURATION:PT1H
X-Robots-Tag:noindex
X-PUBLISHED-TTL:PT1H
BEGIN:VTIMEZONE
TZID:Europe/Berlin
BEGIN:DAYLIGHT
TZOFFSETFROM:+0100
TZOFFSETTO:+0200
TZNAME:CEST
DTSTART:20210328T010000
END:DAYLIGHT
BEGIN:STANDARD
TZOFFSETFROM:+0200
TZOFFSETTO:+0100
TZNAME:CET
DTSTART:20211031T010000
END:STANDARD
BEGIN:DAYLIGHT
TZOFFSETFROM:+0100
TZOFFSETTO:+0200
TZNAME:CEST
DTSTART:20220327T010000
END:DAYLIGHT
BEGIN:STANDARD
TZOFFSETFROM:+0200
TZOFFSETTO:+0100
TZNAME:CET
DTSTART:20221030T010000
END:STANDARD
BEGIN:DAYLIGHT
TZOFFSETFROM:+0100
TZOFFSETTO:+0200
TZNAME:CEST
DTSTART:20230326T010000
END:DAYLIGHT
BEGIN:STANDARD
TZOFFSETFROM:+0200
TZOFFSETTO:+0100
TZNAME:CET
DTSTART:20231029T010000
END:STANDARD
END:VTIMEZONE
BEGIN:VEVENT
DTSTART;TZID=Europe/Berlin:20220321T160000
DTEND;TZID=Europe/Berlin:20220321T180000
DTSTAMP:20260424T090457
CREATED:20220321T131804Z
LAST-MODIFIED:20220321T131804Z
UID:9314-1647878400-1647885600@spd-fraktion-lichtenberg.de
SUMMARY:"Auf ein Wort!" Lichtenberg gegen Rassismus
DESCRIPTION:Zum internationalen Tag gegen Rassismus findet die Aktion „Auf ein Wort!“ am Museum Lichtenberg statt.
URL:https://spd-fraktion-lichtenberg.de/kalender/auf-ein-wort-lichtenberg-gegen-rassismus/
LOCATION:Museum Lichtenberg\, Türrschmidtstraße 24\, Berlin\, Berlin\, 10317\, Deutschland
END:VEVENT
BEGIN:VEVENT
DTSTART;VALUE=DATE:20220328
DTEND;VALUE=DATE:20220329
DTSTAMP:20260424T090457
CREATED:20220325T101753Z
LAST-MODIFIED:20220325T101753Z
UID:9330-1648425600-1648511999@spd-fraktion-lichtenberg.de
SUMMARY:Kennenlernrunde Fraktion & Bürgerdeputierte
DESCRIPTION:Am Montag werden sich unsere Fraktionsmitglieder mit unseren Bürgerdeputierten austauschen und ein gemeinsames Kennelernen veranstalten.\nNatürlich kennt man sich teilweise schon aus der politischen Arbeit\, aber auch eine gute zwischenmenschliche Ebene ist wichtig\, wenn man die nächsten 5 Jahre der Wahlperiode gut zusammenarbeiten möchte. \nDiese Veranstaltung ist nicht öffentlich.\nir werden allerdings im Newsletter und auf unseren Social Media Accounts darüber berichten.
URL:https://spd-fraktion-lichtenberg.de/kalender/kennenlernrunde-fraktion-buergerdeputierte/
LOCATION:Berlin
END:VEVENT
BEGIN:VEVENT
DTSTART;TZID=Europe/Berlin:20220328T140000
DTEND;TZID=Europe/Berlin:20220328T150000
DTSTAMP:20260424T090457
CREATED:20220325T101950Z
LAST-MODIFIED:20220325T101950Z
UID:9333-1648476000-1648479600@spd-fraktion-lichtenberg.de
SUMMARY:Besuch bei LesLeFam
DESCRIPTION:Unser Fraktionsvorsitzender Kevin Einenkel ist am Montag eingeladen LesLeFam zu besuchen. \nDieser Termin ist nicht öffentlich.\nWir werden auf unseren Social Media Plattformen darüber berichten.
URL:https://spd-fraktion-lichtenberg.de/kalender/besuch-bei-leslefam/
LOCATION:Berlin
END:VEVENT
BEGIN:VEVENT
DTSTART;VALUE=DATE:20220329
DTEND;VALUE=DATE:20220330
DTSTAMP:20260424T090457
CREATED:20220325T102315Z
LAST-MODIFIED:20220325T102315Z
UID:9336-1648512000-1648598399@spd-fraktion-lichtenberg.de
SUMMARY:Besuch in der Detlevstraße
DESCRIPTION:Einige Vertreter*innen der Fraktion sind am Dienstag eingeladen\, sich mit den Vertreter*innen der Bürgerinitiative der Gartenstadt zu treffen.\nEs geht dabei um das Bauvorhaben in der Detlevstraße. \nDieses Treffen ist nicht öffentlich!\nWir werden darüber auf unseren öffentlichen Plattformen berichten.
URL:https://spd-fraktion-lichtenberg.de/kalender/besuch-in-der-detlevstrasse/
LOCATION:Berlin
END:VEVENT
END:VCALENDAR