BEGIN:VCALENDAR
VERSION:2.0
PRODID:-//SPD-Fraktion Lichtenberg - ECPv6.15.20//NONSGML v1.0//EN
CALSCALE:GREGORIAN
METHOD:PUBLISH
X-ORIGINAL-URL:https://spd-fraktion-lichtenberg.de
X-WR-CALDESC:Veranstaltungen für SPD-Fraktion Lichtenberg
REFRESH-INTERVAL;VALUE=DURATION:PT1H
X-Robots-Tag:noindex
X-PUBLISHED-TTL:PT1H
BEGIN:VTIMEZONE
TZID:Europe/Berlin
BEGIN:DAYLIGHT
TZOFFSETFROM:+0100
TZOFFSETTO:+0200
TZNAME:CEST
DTSTART:20210328T010000
END:DAYLIGHT
BEGIN:STANDARD
TZOFFSETFROM:+0200
TZOFFSETTO:+0100
TZNAME:CET
DTSTART:20211031T010000
END:STANDARD
BEGIN:DAYLIGHT
TZOFFSETFROM:+0100
TZOFFSETTO:+0200
TZNAME:CEST
DTSTART:20220327T010000
END:DAYLIGHT
BEGIN:STANDARD
TZOFFSETFROM:+0200
TZOFFSETTO:+0100
TZNAME:CET
DTSTART:20221030T010000
END:STANDARD
BEGIN:DAYLIGHT
TZOFFSETFROM:+0100
TZOFFSETTO:+0200
TZNAME:CEST
DTSTART:20230326T010000
END:DAYLIGHT
BEGIN:STANDARD
TZOFFSETFROM:+0200
TZOFFSETTO:+0100
TZNAME:CET
DTSTART:20231029T010000
END:STANDARD
END:VTIMEZONE
BEGIN:VEVENT
DTSTART;TZID=Europe/Berlin:20220111T190000
DTEND;TZID=Europe/Berlin:20220111T220000
DTSTAMP:20260424T115508
CREATED:20220110T152331Z
LAST-MODIFIED:20220110T152331Z
UID:8758-1641927600-1641938400@spd-fraktion-lichtenberg.de
SUMMARY:Ausschuss Europa/ Wirtschaftsförderung/ Sozialraumentwicklung
DESCRIPTION:
URL:https://spd-fraktion-lichtenberg.de/kalender/ausschuss-europa-wirtschaftsfoerderung-sozialraumentwicklung/
LOCATION:Digital\, Deutschland
END:VEVENT
BEGIN:VEVENT
DTSTART;TZID=Europe/Berlin:20220112T190000
DTEND;TZID=Europe/Berlin:20220112T220000
DTSTAMP:20260424T115508
CREATED:20220110T152753Z
LAST-MODIFIED:20220110T152753Z
UID:8762-1642014000-1642024800@spd-fraktion-lichtenberg.de
SUMMARY:Ausschuss Öffentliche Ordnung/ Verkehr
DESCRIPTION:
URL:https://spd-fraktion-lichtenberg.de/kalender/ausschuss-oeffentliche-ordnung-verkehr/
LOCATION:Digital\, Deutschland
END:VEVENT
BEGIN:VEVENT
DTSTART;TZID=Europe/Berlin:20220113T190000
DTEND;TZID=Europe/Berlin:20220113T220000
DTSTAMP:20260424T115508
CREATED:20220110T154754Z
LAST-MODIFIED:20220110T154754Z
UID:8765-1642100400-1642111200@spd-fraktion-lichtenberg.de
SUMMARY:Ausschuss Ökologische Stadtentwicklung/Mieter*innenschutz/FM
DESCRIPTION:
URL:https://spd-fraktion-lichtenberg.de/kalender/ausschuss-oekologische-stadtentwicklung-mieterinnenschutz-fm/
LOCATION:Digital\, Deutschland
END:VEVENT
BEGIN:VEVENT
DTSTART;TZID=Europe/Berlin:20220118T190000
DTEND;TZID=Europe/Berlin:20220118T220000
DTSTAMP:20260424T115508
CREATED:20220111T140426Z
LAST-MODIFIED:20220111T140426Z
UID:8768-1642532400-1642543200@spd-fraktion-lichtenberg.de
SUMMARY:Ausschuss Klima/Umwelt/Natur- & Tierschutz
DESCRIPTION:
URL:https://spd-fraktion-lichtenberg.de/kalender/ausschuss-klima-umwelt-natur-tierschutz/
LOCATION:Rathaus Lichtenberg\, Raum 100\, Möllendorffstr. 6\, Berlin\, 10367
END:VEVENT
BEGIN:VEVENT
DTSTART;TZID=Europe/Berlin:20220119T190000
DTEND;TZID=Europe/Berlin:20220119T210000
DTSTAMP:20260424T115508
CREATED:20220111T140644Z
LAST-MODIFIED:20220111T140644Z
UID:8771-1642618800-1642626000@spd-fraktion-lichtenberg.de
SUMMARY:Ausschuss Eingaben/Beschwerden/Bürger*innendienste
DESCRIPTION:
URL:https://spd-fraktion-lichtenberg.de/kalender/ausschuss-eingaben-beschwerden-buergerinnendienste/
LOCATION:Rathaus Lichtenberg\, Raum 100\, Möllendorffstr. 6\, Berlin\, 10367
END:VEVENT
BEGIN:VEVENT
DTSTART;TZID=Europe/Berlin:20220120T170000
DTEND;TZID=Europe/Berlin:20220120T220000
DTSTAMP:20260424T115508
CREATED:20220110T151921Z
LAST-MODIFIED:20220110T151921Z
UID:8755-1642698000-1642716000@spd-fraktion-lichtenberg.de
SUMMARY:BVV (Bezirksverordnetenversammlung)
DESCRIPTION:
URL:https://spd-fraktion-lichtenberg.de/kalender/bvv-bezirksverordnetenversammlung-4/
LOCATION:Max-Taut-Aula\, Fischerstraße\, Berlin\, 10317
END:VEVENT
BEGIN:VEVENT
DTSTART;TZID=Europe/Berlin:20220126T190000
DTEND;TZID=Europe/Berlin:20220126T210000
DTSTAMP:20260424T115508
CREATED:20220111T140745Z
LAST-MODIFIED:20220111T140745Z
UID:8774-1643223600-1643230800@spd-fraktion-lichtenberg.de
SUMMARY:Ausschuss Arbeit/Soziales/Gesundheit
DESCRIPTION:
URL:https://spd-fraktion-lichtenberg.de/kalender/ausschuss-arbeit-soziales-gesundheit/
LOCATION:Rathaus Lichtenberg\, Raum 100\, Möllendorffstr. 6\, Berlin\, 10367
END:VEVENT
BEGIN:VEVENT
DTSTART;TZID=Europe/Berlin:20220127T190000
DTEND;TZID=Europe/Berlin:20220127T210000
DTSTAMP:20260424T115508
CREATED:20220111T140853Z
LAST-MODIFIED:20220111T140853Z
UID:8777-1643310000-1643317200@spd-fraktion-lichtenberg.de
SUMMARY:Ausschuss ökologische Stadtentwicklung/ Mieter*inennschutz/ FM
DESCRIPTION:
URL:https://spd-fraktion-lichtenberg.de/kalender/ausschuss-oekologische-stadtentwicklung-mieterinennschutz-fm/
LOCATION:Rathaus Lichtenberg\, Raum 100\, Möllendorffstr. 6\, Berlin\, 10367
END:VEVENT
END:VCALENDAR