BEGIN:VCALENDAR
VERSION:2.0
PRODID:-//SPD-Fraktion Lichtenberg - ECPv6.15.20//NONSGML v1.0//EN
CALSCALE:GREGORIAN
METHOD:PUBLISH
X-WR-CALNAME:SPD-Fraktion Lichtenberg
X-ORIGINAL-URL:https://spd-fraktion-lichtenberg.de
X-WR-CALDESC:Veranstaltungen für SPD-Fraktion Lichtenberg
REFRESH-INTERVAL;VALUE=DURATION:PT1H
X-Robots-Tag:noindex
X-PUBLISHED-TTL:PT1H
BEGIN:VTIMEZONE
TZID:Europe/Berlin
BEGIN:DAYLIGHT
TZOFFSETFROM:+0100
TZOFFSETTO:+0200
TZNAME:CEST
DTSTART:20200329T010000
END:DAYLIGHT
BEGIN:STANDARD
TZOFFSETFROM:+0200
TZOFFSETTO:+0100
TZNAME:CET
DTSTART:20201025T010000
END:STANDARD
BEGIN:DAYLIGHT
TZOFFSETFROM:+0100
TZOFFSETTO:+0200
TZNAME:CEST
DTSTART:20210328T010000
END:DAYLIGHT
BEGIN:STANDARD
TZOFFSETFROM:+0200
TZOFFSETTO:+0100
TZNAME:CET
DTSTART:20211031T010000
END:STANDARD
BEGIN:DAYLIGHT
TZOFFSETFROM:+0100
TZOFFSETTO:+0200
TZNAME:CEST
DTSTART:20220327T010000
END:DAYLIGHT
BEGIN:STANDARD
TZOFFSETFROM:+0200
TZOFFSETTO:+0100
TZNAME:CET
DTSTART:20221030T010000
END:STANDARD
END:VTIMEZONE
BEGIN:VEVENT
DTSTART;TZID=Europe/Berlin:20210802T183000
DTEND;TZID=Europe/Berlin:20210802T210000
DTSTAMP:20260424T181106
CREATED:20210702T070812Z
LAST-MODIFIED:20210702T070812Z
UID:8542-1627929000-1627938000@spd-fraktion-lichtenberg.de
SUMMARY:Fraktionssitzung
DESCRIPTION:Am 02.08.2021 findet die nächste Zusammenkunft der SPD-Fraktion Lichtenberg statt.
URL:https://spd-fraktion-lichtenberg.de/kalender/fraktionssitzung-2/
LOCATION:Berlin
END:VEVENT
BEGIN:VEVENT
DTSTART;TZID=Europe/Berlin:20210803T190000
DTEND;TZID=Europe/Berlin:20210803T220000
DTSTAMP:20260424T181106
CREATED:20210702T073319Z
LAST-MODIFIED:20210702T073327Z
UID:8564-1628017200-1628028000@spd-fraktion-lichtenberg.de
SUMMARY:Ausschuss: Schule und Sport
DESCRIPTION:Am 03.08.2021 tagt der Auschuss Schule und Sport.\nDie Sitzung ist öffentlich.\nSie finden die Tagesodnung\, als auch die Einladung hier.
URL:https://spd-fraktion-lichtenberg.de/kalender/ausschuss-schule-und-sport/
LOCATION:Berlin
END:VEVENT
BEGIN:VEVENT
DTSTART;TZID=Europe/Berlin:20210804T190000
DTEND;TZID=Europe/Berlin:20210804T220000
DTSTAMP:20260424T181106
CREATED:20210702T073453Z
LAST-MODIFIED:20210702T073453Z
UID:8570-1628103600-1628114400@spd-fraktion-lichtenberg.de
SUMMARY:Ausschuss: Umwelt und Klimaschutz
DESCRIPTION:Am 04.08.2021 tagt der Auschuss Umwelt und Klimaschutz.\nDie Sitzung ist öffentlich.\nSie finden die Tagesodnung\, als auch die Einladung hier.
URL:https://spd-fraktion-lichtenberg.de/kalender/ausschuss-umwelt-und-klimaschutz/
LOCATION:Berlin
END:VEVENT
BEGIN:VEVENT
DTSTART;TZID=Europe/Berlin:20210805T190000
DTEND;TZID=Europe/Berlin:20210805T220000
DTSTAMP:20260424T181106
CREATED:20210702T073615Z
LAST-MODIFIED:20210702T073615Z
UID:8571-1628190000-1628200800@spd-fraktion-lichtenberg.de
SUMMARY:Ausschuss: Ökologische Stadtentwicklung und Mieterschutz
DESCRIPTION:Am 05.08.2021 tagt der Auschuss Ökologische Stadtentwicklung und Mieterschutz.\nDie Sitzung ist öffentlich.\nSie finden die Tagesodnung\, als auch die Einladung hier.
URL:https://spd-fraktion-lichtenberg.de/kalender/ausschuss-oekologische-stadtentwicklung-und-mieterschutz/
LOCATION:Berlin
END:VEVENT
BEGIN:VEVENT
DTSTART;TZID=Europe/Berlin:20210810T190000
DTEND;TZID=Europe/Berlin:20210810T220000
DTSTAMP:20260424T181106
CREATED:20210702T073653Z
LAST-MODIFIED:20210702T073653Z
UID:8569-1628622000-1628632800@spd-fraktion-lichtenberg.de
SUMMARY:Ausschuss: Gesundheit
DESCRIPTION:Am 10.08.2021 tagt der Auschuss Gesundheit.\nDie Sitzung ist öffentlich.\nSie finden die Tagesodnung\, als auch die Einladung hier.
URL:https://spd-fraktion-lichtenberg.de/kalender/ausschuss-gesundheit-3/
LOCATION:Berlin
END:VEVENT
BEGIN:VEVENT
DTSTART;TZID=Europe/Berlin:20210811T190000
DTEND;TZID=Europe/Berlin:20210811T220000
DTSTAMP:20260424T181106
CREATED:20210702T073743Z
LAST-MODIFIED:20210702T073743Z
UID:8578-1628708400-1628719200@spd-fraktion-lichtenberg.de
SUMMARY:Ausschuss: Eingaben/Beschwerden und Geschäftsordnung
DESCRIPTION:Am 11.08.2021 tagt der Auschuss Eingaben/Beschwerden und Geschäftsordnung\nDie Sitzung ist öffentlich.\nSie finden die Tagesodnung\, als auch die Einladung hier.
URL:https://spd-fraktion-lichtenberg.de/kalender/ausschuss-eingaben-beschwerden-und-geschaeftsordnung/
LOCATION:Berlin
END:VEVENT
BEGIN:VEVENT
DTSTART;TZID=Europe/Berlin:20210811T190000
DTEND;TZID=Europe/Berlin:20210811T220000
DTSTAMP:20260424T181106
CREATED:20210702T073853Z
LAST-MODIFIED:20210702T073905Z
UID:8579-1628708400-1628719200@spd-fraktion-lichtenberg.de
SUMMARY:Ausschuss: Haushalt und Personal
DESCRIPTION:Am 11.08.2021 tagt der Auschuss Haushalt und Personal.\nDie Sitzung ist öffentlich.\nSie finden die Tagesodnung\, als auch die Einladung hier.
URL:https://spd-fraktion-lichtenberg.de/kalender/ausschuss-haushalt-und-personal/
LOCATION:Berlin
END:VEVENT
BEGIN:VEVENT
DTSTART;TZID=Europe/Berlin:20210812T190000
DTEND;TZID=Europe/Berlin:20210812T220000
DTSTAMP:20260424T181106
CREATED:20210702T073955Z
LAST-MODIFIED:20210702T073955Z
UID:8585-1628794800-1628805600@spd-fraktion-lichtenberg.de
SUMMARY:Ausschuss: Wirtschaft\, Arbeit\, Soziales und Gemeinwesen
DESCRIPTION:Am 12.08.2021 tagt der Auschuss Wirtschaft\, Arbeit\, Soziales und Gemeinwesen\nDie Sitzung ist öffentlich.\nSie finden die Tagesodnung\, als auch die Einladung hier.
URL:https://spd-fraktion-lichtenberg.de/kalender/ausschuss-wirtschaft-arbeit-soziales-und-gemeinwesen/
LOCATION:Berlin
END:VEVENT
BEGIN:VEVENT
DTSTART;TZID=Europe/Berlin:20210816T183000
DTEND;TZID=Europe/Berlin:20210816T210000
DTSTAMP:20260424T181106
CREATED:20210702T071101Z
LAST-MODIFIED:20210702T071101Z
UID:8546-1629138600-1629147600@spd-fraktion-lichtenberg.de
SUMMARY:Fraktionssitzung
DESCRIPTION:Am 16.08.2021 findet die nächste Zusammenkunft der SPD-Fraktion Lichtenberg statt.
URL:https://spd-fraktion-lichtenberg.de/kalender/fraktionssitzung-3/
LOCATION:Berlin
END:VEVENT
BEGIN:VEVENT
DTSTART;TZID=Europe/Berlin:20210817T190000
DTEND;TZID=Europe/Berlin:20210817T220000
DTSTAMP:20260424T181106
CREATED:20210702T074038Z
LAST-MODIFIED:20210702T074038Z
UID:8587-1629226800-1629237600@spd-fraktion-lichtenberg.de
SUMMARY:Ausschuss: Schule und Sport
DESCRIPTION:Am 17.08.2021 tagt der Auschuss Schule und Sport.\nDie Sitzung ist öffentlich.\nSie finden die Tagesodnung\, als auch die Einladung hier.
URL:https://spd-fraktion-lichtenberg.de/kalender/ausschuss-schule-und-sport-2/
LOCATION:Berlin
END:VEVENT
BEGIN:VEVENT
DTSTART;TZID=Europe/Berlin:20210818T190000
DTEND;TZID=Europe/Berlin:20210818T220000
DTSTAMP:20260424T181106
CREATED:20210702T074114Z
LAST-MODIFIED:20210702T074114Z
UID:8586-1629313200-1629324000@spd-fraktion-lichtenberg.de
SUMMARY:Ausschuss: Integration
DESCRIPTION:Am 18.08.2021 tagt der Auschuss Integration.\nDie Sitzung ist öffentlich.\nSie finden die Tagesodnung\, als auch die Einladung hier.
URL:https://spd-fraktion-lichtenberg.de/kalender/ausschuss-integration/
LOCATION:Berlin
END:VEVENT
BEGIN:VEVENT
DTSTART;TZID=Europe/Berlin:20210819T170000
DTEND;TZID=Europe/Berlin:20210819T220000
DTSTAMP:20260424T181106
CREATED:20210702T071912Z
LAST-MODIFIED:20210702T071928Z
UID:8556-1629392400-1629410400@spd-fraktion-lichtenberg.de
SUMMARY:BVV (Bezirksverordnetenversammlung)
DESCRIPTION:Einmal im Monat komme alle Vertreter*innen der verschiedenen Fraktionen und des Bezirksamtes in der Bezirksverordnetenversammlung zusammen\, wo die Verordneten über Anträge beraten und das Bezirksamt auf Anfragen eingeht. \nIm Juni findet die BVV am 19.08. um 17:00 Uhr statt.\nDie BVV ist öffentlich und wird daher per Live-Stream auf YouTube übertragen.\nUm sie anzusehen\, hier entlang.
URL:https://spd-fraktion-lichtenberg.de/kalender/bvv-bezirksverordnetenversammlung-2/
LOCATION:Berlin
END:VEVENT
BEGIN:VEVENT
DTSTART;TZID=Europe/Berlin:20210824T190000
DTEND;TZID=Europe/Berlin:20210824T220000
DTSTAMP:20260424T181106
CREATED:20210702T074159Z
LAST-MODIFIED:20210702T074159Z
UID:8588-1629831600-1629842400@spd-fraktion-lichtenberg.de
SUMMARY:Ausschuss: Öffentliche Ordnung\, Verkehr und Bürgerdienste
DESCRIPTION:Am 24.08.2021 tagt der Auschuss Öffentliche Ordnung\, Verkehr und Bürgerdienste\nDie Sitzung ist öffentlich.\nSie finden die Tagesodnung\, als auch die Einladung hier.
URL:https://spd-fraktion-lichtenberg.de/kalender/ausschuss-oeffentliche-ordnung-verkehr-und-buergerdienste/
LOCATION:Berlin
END:VEVENT
BEGIN:VEVENT
DTSTART;TZID=Europe/Berlin:20210825T190000
DTEND;TZID=Europe/Berlin:20210825T220000
DTSTAMP:20260424T181106
CREATED:20210702T074243Z
LAST-MODIFIED:20210702T074243Z
UID:8597-1629918000-1629928800@spd-fraktion-lichtenberg.de
SUMMARY:Ausschuss: Kultur und Bürgerbeteiligung
DESCRIPTION:Am 25.08.2021 tagt der Auschuss Kultur und Bürgerbeteiligung.\nDie Sitzung ist öffentlich.\nSie finden die Tagesodnung\, als auch die Einladung hier.
URL:https://spd-fraktion-lichtenberg.de/kalender/ausschuss-kultur-und-buergerbeteiligung/
LOCATION:Berlin
END:VEVENT
BEGIN:VEVENT
DTSTART;TZID=Europe/Berlin:20210826T190000
DTEND;TZID=Europe/Berlin:20210826T220000
DTSTAMP:20260424T181106
CREATED:20210702T074327Z
LAST-MODIFIED:20210702T074327Z
UID:8598-1630004400-1630015200@spd-fraktion-lichtenberg.de
SUMMARY:Ausschuss: Ökologische Stadtentwicklung und Mieterschutz
DESCRIPTION:Am 26.08.2021 tagt der Auschuss Ökologische Stadtentwicklung und Mieterschutz.\nDie Sitzung ist öffentlich.\nSie finden die Tagesodnung\, als auch die Einladung hier.
URL:https://spd-fraktion-lichtenberg.de/kalender/ausschuss-oekologische-stadtentwicklung-und-mieterschutz-2/
LOCATION:Berlin
END:VEVENT
BEGIN:VEVENT
DTSTART;TZID=Europe/Berlin:20210830T183000
DTEND;TZID=Europe/Berlin:20210830T210000
DTSTAMP:20260424T181106
CREATED:20210702T071144Z
LAST-MODIFIED:20210702T071144Z
UID:8548-1630348200-1630357200@spd-fraktion-lichtenberg.de
SUMMARY:Fraktionssitzung
DESCRIPTION:Am 30.08.2021 findet die nächste Zusammenkunft der SPD-Fraktion Lichtenberg statt.
URL:https://spd-fraktion-lichtenberg.de/kalender/fraktionssitzung-4/
LOCATION:Berlin
END:VEVENT
END:VCALENDAR