BEGIN:VCALENDAR
VERSION:2.0
PRODID:-//SPD-Fraktion Lichtenberg - ECPv6.15.20//NONSGML v1.0//EN
CALSCALE:GREGORIAN
METHOD:PUBLISH
X-ORIGINAL-URL:https://spd-fraktion-lichtenberg.de
X-WR-CALDESC:Veranstaltungen für SPD-Fraktion Lichtenberg
REFRESH-INTERVAL;VALUE=DURATION:PT1H
X-Robots-Tag:noindex
X-PUBLISHED-TTL:PT1H
BEGIN:VTIMEZONE
TZID:Europe/Berlin
BEGIN:DAYLIGHT
TZOFFSETFROM:+0100
TZOFFSETTO:+0200
TZNAME:CEST
DTSTART:20230326T010000
END:DAYLIGHT
BEGIN:STANDARD
TZOFFSETFROM:+0200
TZOFFSETTO:+0100
TZNAME:CET
DTSTART:20231029T010000
END:STANDARD
BEGIN:DAYLIGHT
TZOFFSETFROM:+0100
TZOFFSETTO:+0200
TZNAME:CEST
DTSTART:20240331T010000
END:DAYLIGHT
BEGIN:STANDARD
TZOFFSETFROM:+0200
TZOFFSETTO:+0100
TZNAME:CET
DTSTART:20241027T010000
END:STANDARD
BEGIN:DAYLIGHT
TZOFFSETFROM:+0100
TZOFFSETTO:+0200
TZNAME:CEST
DTSTART:20250330T010000
END:DAYLIGHT
BEGIN:STANDARD
TZOFFSETFROM:+0200
TZOFFSETTO:+0100
TZNAME:CET
DTSTART:20251026T010000
END:STANDARD
END:VTIMEZONE
BEGIN:VEVENT
DTSTART;TZID=Europe/Berlin:20241012T120000
DTEND;TZID=Europe/Berlin:20241012T150000
DTSTAMP:20260422T180503
CREATED:20241001T092812Z
LAST-MODIFIED:20241001T092812Z
UID:11593-1728734400-1728745200@spd-fraktion-lichtenberg.de
SUMMARY:Jugend-BVV "Ich mische mit!"
DESCRIPTION:Am Samstag den  12.10. können Jugendliche aus Lichtenberg im Rathaus selbst politisch aktiv werden und ihre Themen dem Bezirksamt mitgeben.\nVon 12:00-15:00 Uhr stehen neben Bezirksamtsmitgliedern auch einige Bezirksverordnete bereit\, um gemeinsam mit den Jugendliche ihre Anliegen zu bearbeiten. \n 
URL:https://spd-fraktion-lichtenberg.de/kalender/jugend-bvv-ich-mische-mit/
LOCATION:Rathaus Lichtenberg\, Möllendorffstr. 6\, Berlin\, 10367
CATEGORIES:Podien & Talks
ATTACH;FMTTYPE=image/jpeg:https://spd-fraktion-lichtenberg.de/wp-content/uploads/2024/01/DSC_0029-min.jpg
END:VEVENT
END:VCALENDAR