BEGIN:VCALENDAR
VERSION:2.0
PRODID:-//SPD-Fraktion Lichtenberg - ECPv6.15.20//NONSGML v1.0//EN
CALSCALE:GREGORIAN
METHOD:PUBLISH
X-WR-CALNAME:SPD-Fraktion Lichtenberg
X-ORIGINAL-URL:https://spd-fraktion-lichtenberg.de
X-WR-CALDESC:Veranstaltungen für SPD-Fraktion Lichtenberg
REFRESH-INTERVAL;VALUE=DURATION:PT1H
X-Robots-Tag:noindex
X-PUBLISHED-TTL:PT1H
BEGIN:VTIMEZONE
TZID:Europe/Berlin
BEGIN:DAYLIGHT
TZOFFSETFROM:+0100
TZOFFSETTO:+0200
TZNAME:CEST
DTSTART:20230326T010000
END:DAYLIGHT
BEGIN:STANDARD
TZOFFSETFROM:+0200
TZOFFSETTO:+0100
TZNAME:CET
DTSTART:20231029T010000
END:STANDARD
BEGIN:DAYLIGHT
TZOFFSETFROM:+0100
TZOFFSETTO:+0200
TZNAME:CEST
DTSTART:20240331T010000
END:DAYLIGHT
BEGIN:STANDARD
TZOFFSETFROM:+0200
TZOFFSETTO:+0100
TZNAME:CET
DTSTART:20241027T010000
END:STANDARD
BEGIN:DAYLIGHT
TZOFFSETFROM:+0100
TZOFFSETTO:+0200
TZNAME:CEST
DTSTART:20250330T010000
END:DAYLIGHT
BEGIN:STANDARD
TZOFFSETFROM:+0200
TZOFFSETTO:+0100
TZNAME:CET
DTSTART:20251026T010000
END:STANDARD
END:VTIMEZONE
BEGIN:VEVENT
DTSTART;VALUE=DATE:20240906
DTEND;VALUE=DATE:20240907
DTSTAMP:20260422T192704
CREATED:20240813T123808Z
LAST-MODIFIED:20240813T123808Z
UID:11549-1725580800-1725667199@spd-fraktion-lichtenberg.de
SUMMARY:Septemberfeuer 2024
DESCRIPTION:Auch in diesem Jahr lädt die SPD Alt-Lichtenberg zu ihrem Septemberfeuer in die Kiezspinne ein.\nDabei wird auch wieder der Frida-Rosenthal-Preis vergeben werden!\nKommt vorbei für einen Nachmittag und Abend mit Spiel\, Spaß\, etwas fürs leibliche Wohl und guten Gesprächen!
URL:https://spd-fraktion-lichtenberg.de/kalender/septemberfeuer-2024/
LOCATION:Kiezspinne\, Schulze-Boysen-Straße 38\, Berlin\, 10365
CATEGORIES:Feste & Feiern
ATTACH;FMTTYPE=image/jpeg:https://spd-fraktion-lichtenberg.de/wp-content/uploads/2024/08/Septemberfeuer.jpg
END:VEVENT
END:VCALENDAR