BEGIN:VCALENDAR
VERSION:2.0
PRODID:-//SPD-Fraktion Lichtenberg - ECPv6.15.20//NONSGML v1.0//EN
CALSCALE:GREGORIAN
METHOD:PUBLISH
X-ORIGINAL-URL:https://spd-fraktion-lichtenberg.de
X-WR-CALDESC:Veranstaltungen für SPD-Fraktion Lichtenberg
REFRESH-INTERVAL;VALUE=DURATION:PT1H
X-Robots-Tag:noindex
X-PUBLISHED-TTL:PT1H
BEGIN:VTIMEZONE
TZID:Europe/Berlin
BEGIN:DAYLIGHT
TZOFFSETFROM:+0100
TZOFFSETTO:+0200
TZNAME:CEST
DTSTART:20230326T010000
END:DAYLIGHT
BEGIN:STANDARD
TZOFFSETFROM:+0200
TZOFFSETTO:+0100
TZNAME:CET
DTSTART:20231029T010000
END:STANDARD
BEGIN:DAYLIGHT
TZOFFSETFROM:+0100
TZOFFSETTO:+0200
TZNAME:CEST
DTSTART:20240331T010000
END:DAYLIGHT
BEGIN:STANDARD
TZOFFSETFROM:+0200
TZOFFSETTO:+0100
TZNAME:CET
DTSTART:20241027T010000
END:STANDARD
BEGIN:DAYLIGHT
TZOFFSETFROM:+0100
TZOFFSETTO:+0200
TZNAME:CEST
DTSTART:20250330T010000
END:DAYLIGHT
BEGIN:STANDARD
TZOFFSETFROM:+0200
TZOFFSETTO:+0100
TZNAME:CET
DTSTART:20251026T010000
END:STANDARD
END:VTIMEZONE
BEGIN:VEVENT
DTSTART;TZID=Europe/Berlin:20240726T170000
DTEND;TZID=Europe/Berlin:20240726T190000
DTSTAMP:20260422T220559
CREATED:20240704T135122Z
LAST-MODIFIED:20240704T135444Z
UID:11493-1722013200-1722020400@spd-fraktion-lichtenberg.de
SUMMARY:Open Air Konzert "40 Jahre HSH"
DESCRIPTION:Anlässlich des Jubiläums „40 Jahre Hohenschönhausen“ findet am 26. Juli von 17:00 bis 19:00 Uhr auf dem Vorplatz des S-Bahnhof Wartenberg ein Open Air Konzert statt. \nDie Veranstaltung ist öffentlich. \nWir freuen uns drauf!
URL:https://spd-fraktion-lichtenberg.de/kalender/open-air-konzert-40-jahre-hsh/
LOCATION:S-Bahnhof Wartenberg\, Wartenberg\, Vorplatz\, Berlin\, 13059
ATTACH;FMTTYPE=image/jpeg:https://spd-fraktion-lichtenberg.de/wp-content/uploads/2024/07/pexels-pixabay-164879-scaled.jpg
END:VEVENT
END:VCALENDAR