BEGIN:VCALENDAR
VERSION:2.0
PRODID:-//SPD-Fraktion Lichtenberg - ECPv6.15.20//NONSGML v1.0//EN
CALSCALE:GREGORIAN
METHOD:PUBLISH
X-ORIGINAL-URL:https://spd-fraktion-lichtenberg.de
X-WR-CALDESC:Veranstaltungen für SPD-Fraktion Lichtenberg
REFRESH-INTERVAL;VALUE=DURATION:PT1H
X-Robots-Tag:noindex
X-PUBLISHED-TTL:PT1H
BEGIN:VTIMEZONE
TZID:Europe/Berlin
BEGIN:DAYLIGHT
TZOFFSETFROM:+0100
TZOFFSETTO:+0200
TZNAME:CEST
DTSTART:20230326T010000
END:DAYLIGHT
BEGIN:STANDARD
TZOFFSETFROM:+0200
TZOFFSETTO:+0100
TZNAME:CET
DTSTART:20231029T010000
END:STANDARD
BEGIN:DAYLIGHT
TZOFFSETFROM:+0100
TZOFFSETTO:+0200
TZNAME:CEST
DTSTART:20240331T010000
END:DAYLIGHT
BEGIN:STANDARD
TZOFFSETFROM:+0200
TZOFFSETTO:+0100
TZNAME:CET
DTSTART:20241027T010000
END:STANDARD
BEGIN:DAYLIGHT
TZOFFSETFROM:+0100
TZOFFSETTO:+0200
TZNAME:CEST
DTSTART:20250330T010000
END:DAYLIGHT
BEGIN:STANDARD
TZOFFSETFROM:+0200
TZOFFSETTO:+0100
TZNAME:CET
DTSTART:20251026T010000
END:STANDARD
END:VTIMEZONE
BEGIN:VEVENT
DTSTART;TZID=Europe/Berlin:20240708T183000
DTEND;TZID=Europe/Berlin:20240708T220000
DTSTAMP:20260422T220506
CREATED:20240704T134501Z
LAST-MODIFIED:20240704T135723Z
UID:11489-1720463400-1720476000@spd-fraktion-lichtenberg.de
SUMMARY:Fraktionssitzung
DESCRIPTION:In dieser Fraktionssitzung wird die BVV im Juli vorbereitet\, die bereits am Donnerstag folgt.\nEs werden Anträge beraten\, die Liste der Drucksache ohne Aussprache wird durchgegangen\, es werden Redebeiträge vergeben und Organisatorisches wird geklärt. \nFraktionssitzungen sind nicht öffentlich.
URL:https://spd-fraktion-lichtenberg.de/kalender/fraktionssitzung-10/
LOCATION:Rathaus Lichtenberg\, Raum 13a\, Möllendorffstr. 6\, Berlin\, 10367
CATEGORIES:Fraktionssitzung,Sitzungen
ATTACH;FMTTYPE=image/jpeg:https://spd-fraktion-lichtenberg.de/wp-content/uploads/2024/04/spd-fraktion-lichtenberg-1.jpg
END:VEVENT
END:VCALENDAR