BEGIN:VCALENDAR
VERSION:2.0
PRODID:-//SPD-Fraktion Lichtenberg - ECPv6.15.20//NONSGML v1.0//EN
CALSCALE:GREGORIAN
METHOD:PUBLISH
X-WR-CALNAME:SPD-Fraktion Lichtenberg
X-ORIGINAL-URL:https://spd-fraktion-lichtenberg.de
X-WR-CALDESC:Veranstaltungen für SPD-Fraktion Lichtenberg
REFRESH-INTERVAL;VALUE=DURATION:PT1H
X-Robots-Tag:noindex
X-PUBLISHED-TTL:PT1H
BEGIN:VTIMEZONE
TZID:Europe/Berlin
BEGIN:DAYLIGHT
TZOFFSETFROM:+0100
TZOFFSETTO:+0200
TZNAME:CEST
DTSTART:20210328T010000
END:DAYLIGHT
BEGIN:STANDARD
TZOFFSETFROM:+0200
TZOFFSETTO:+0100
TZNAME:CET
DTSTART:20211031T010000
END:STANDARD
BEGIN:DAYLIGHT
TZOFFSETFROM:+0100
TZOFFSETTO:+0200
TZNAME:CEST
DTSTART:20220327T010000
END:DAYLIGHT
BEGIN:STANDARD
TZOFFSETFROM:+0200
TZOFFSETTO:+0100
TZNAME:CET
DTSTART:20221030T010000
END:STANDARD
BEGIN:DAYLIGHT
TZOFFSETFROM:+0100
TZOFFSETTO:+0200
TZNAME:CEST
DTSTART:20230326T010000
END:DAYLIGHT
BEGIN:STANDARD
TZOFFSETFROM:+0200
TZOFFSETTO:+0100
TZNAME:CET
DTSTART:20231029T010000
END:STANDARD
END:VTIMEZONE
BEGIN:VEVENT
DTSTART;TZID=Europe/Berlin:20220616T170000
DTEND;TZID=Europe/Berlin:20220616T220000
DTSTAMP:20260424T054437
CREATED:20220614T130422Z
LAST-MODIFIED:20220614T130422Z
UID:9419-1655398800-1655416800@spd-fraktion-lichtenberg.de
SUMMARY:Bezirksverordnetenversammlung (BVV)
DESCRIPTION:Die BVV i Juni findet am 16.06. ab 17:00 Uhr statt.\nDas ganze wird Live übertragen\, außerdem gibt es nun wieder die Möglichkeit\, selbst vor Ort vorbei zu schauen (eine Anmeldung im BVV Büro ist ratsam).
URL:https://spd-fraktion-lichtenberg.de/kalender/bezirksverordnetenversammlung-bvv-2/
LOCATION:Max-Taut-Aula\, Fischerstraße\, Berlin\, 10317
END:VEVENT
END:VCALENDAR