BEGIN:VCALENDAR
VERSION:2.0
PRODID:-//SPD-Fraktion Lichtenberg - ECPv6.15.20//NONSGML v1.0//EN
CALSCALE:GREGORIAN
METHOD:PUBLISH
X-WR-CALNAME:SPD-Fraktion Lichtenberg
X-ORIGINAL-URL:https://spd-fraktion-lichtenberg.de
X-WR-CALDESC:Veranstaltungen für SPD-Fraktion Lichtenberg
REFRESH-INTERVAL;VALUE=DURATION:PT1H
X-Robots-Tag:noindex
X-PUBLISHED-TTL:PT1H
BEGIN:VTIMEZONE
TZID:Europe/Berlin
BEGIN:DAYLIGHT
TZOFFSETFROM:+0100
TZOFFSETTO:+0200
TZNAME:CEST
DTSTART:20210328T010000
END:DAYLIGHT
BEGIN:STANDARD
TZOFFSETFROM:+0200
TZOFFSETTO:+0100
TZNAME:CET
DTSTART:20211031T010000
END:STANDARD
BEGIN:DAYLIGHT
TZOFFSETFROM:+0100
TZOFFSETTO:+0200
TZNAME:CEST
DTSTART:20220327T010000
END:DAYLIGHT
BEGIN:STANDARD
TZOFFSETFROM:+0200
TZOFFSETTO:+0100
TZNAME:CET
DTSTART:20221030T010000
END:STANDARD
BEGIN:DAYLIGHT
TZOFFSETFROM:+0100
TZOFFSETTO:+0200
TZNAME:CEST
DTSTART:20230326T010000
END:DAYLIGHT
BEGIN:STANDARD
TZOFFSETFROM:+0200
TZOFFSETTO:+0100
TZNAME:CET
DTSTART:20231029T010000
END:STANDARD
END:VTIMEZONE
BEGIN:VEVENT
DTSTART;TZID=Europe/Berlin:20220530T183000
DTEND;TZID=Europe/Berlin:20220530T220000
DTSTAMP:20260424T054346
CREATED:20220513T094939Z
LAST-MODIFIED:20220513T094939Z
UID:9401-1653935400-1653948000@spd-fraktion-lichtenberg.de
SUMMARY:Fraktionssitzung
DESCRIPTION:Die Fraktion und die Bürgerdeputierten kommen zusammen\, um die vergangene BVV auszuwerten und über neue Themen und Initiativen zu beraten.
URL:https://spd-fraktion-lichtenberg.de/kalender/fraktionssitzung-9/
LOCATION:Berlin
END:VEVENT
END:VCALENDAR