BEGIN:VCALENDAR
VERSION:2.0
PRODID:-//SPD-Fraktion Lichtenberg - ECPv6.15.20//NONSGML v1.0//EN
CALSCALE:GREGORIAN
METHOD:PUBLISH
X-ORIGINAL-URL:https://spd-fraktion-lichtenberg.de
X-WR-CALDESC:Veranstaltungen für SPD-Fraktion Lichtenberg
REFRESH-INTERVAL;VALUE=DURATION:PT1H
X-Robots-Tag:noindex
X-PUBLISHED-TTL:PT1H
BEGIN:VTIMEZONE
TZID:Europe/Berlin
BEGIN:DAYLIGHT
TZOFFSETFROM:+0100
TZOFFSETTO:+0200
TZNAME:CEST
DTSTART:20200329T010000
END:DAYLIGHT
BEGIN:STANDARD
TZOFFSETFROM:+0200
TZOFFSETTO:+0100
TZNAME:CET
DTSTART:20201025T010000
END:STANDARD
BEGIN:DAYLIGHT
TZOFFSETFROM:+0100
TZOFFSETTO:+0200
TZNAME:CEST
DTSTART:20210328T010000
END:DAYLIGHT
BEGIN:STANDARD
TZOFFSETFROM:+0200
TZOFFSETTO:+0100
TZNAME:CET
DTSTART:20211031T010000
END:STANDARD
BEGIN:DAYLIGHT
TZOFFSETFROM:+0100
TZOFFSETTO:+0200
TZNAME:CEST
DTSTART:20220327T010000
END:DAYLIGHT
BEGIN:STANDARD
TZOFFSETFROM:+0200
TZOFFSETTO:+0100
TZNAME:CET
DTSTART:20221030T010000
END:STANDARD
END:VTIMEZONE
BEGIN:VEVENT
DTSTART;TZID=Europe/Berlin:20211124T123000
DTEND;TZID=Europe/Berlin:20211124T130000
DTSTAMP:20260424T153710
CREATED:20211117T114514Z
LAST-MODIFIED:20211117T114514Z
UID:8734-1637757000-1637758800@spd-fraktion-lichtenberg.de
SUMMARY:"Berlin sagt Nein zu Gewalt an Frauen" - Flagge Hissen am Rathaus Lichtenberg
DESCRIPTION:Im Zuge des Internationalen Tages gegen Gewalt an Frauen\, welcher am 25. November jeden Jahres stattfindet\, hissen wir am Rathaus Lichtenberg einen Tag zuvor (24. November) die Flagge unter dem Motto: „Berlin sagt Nein zu Gewalt an Frauen“
URL:https://spd-fraktion-lichtenberg.de/kalender/berlin-sagt-nein-zu-gewalt-an-frauen-flagge-hissen-am-rathaus-lichtenberg/
LOCATION:Rathaus Lichtenberg\, Möllendorffstr. 6\, Berlin\, 10367
END:VEVENT
END:VCALENDAR