BEGIN:VCALENDAR
VERSION:2.0
PRODID:-//SPD-Fraktion Lichtenberg - ECPv6.15.20//NONSGML v1.0//EN
CALSCALE:GREGORIAN
METHOD:PUBLISH
X-ORIGINAL-URL:https://spd-fraktion-lichtenberg.de
X-WR-CALDESC:Veranstaltungen für SPD-Fraktion Lichtenberg
REFRESH-INTERVAL;VALUE=DURATION:PT1H
X-Robots-Tag:noindex
X-PUBLISHED-TTL:PT1H
BEGIN:VTIMEZONE
TZID:Europe/Berlin
BEGIN:DAYLIGHT
TZOFFSETFROM:+0100
TZOFFSETTO:+0200
TZNAME:CEST
DTSTART:20200329T010000
END:DAYLIGHT
BEGIN:STANDARD
TZOFFSETFROM:+0200
TZOFFSETTO:+0100
TZNAME:CET
DTSTART:20201025T010000
END:STANDARD
BEGIN:DAYLIGHT
TZOFFSETFROM:+0100
TZOFFSETTO:+0200
TZNAME:CEST
DTSTART:20210328T010000
END:DAYLIGHT
BEGIN:STANDARD
TZOFFSETFROM:+0200
TZOFFSETTO:+0100
TZNAME:CET
DTSTART:20211031T010000
END:STANDARD
BEGIN:DAYLIGHT
TZOFFSETFROM:+0100
TZOFFSETTO:+0200
TZNAME:CEST
DTSTART:20220327T010000
END:DAYLIGHT
BEGIN:STANDARD
TZOFFSETFROM:+0200
TZOFFSETTO:+0100
TZNAME:CET
DTSTART:20221030T010000
END:STANDARD
END:VTIMEZONE
BEGIN:VEVENT
DTSTART;TZID=Europe/Berlin:20211122T183000
DTEND;TZID=Europe/Berlin:20211122T210000
DTSTAMP:20260424T153758
CREATED:20211026T161110Z
LAST-MODIFIED:20211026T161110Z
UID:8631-1637605800-1637614800@spd-fraktion-lichtenberg.de
SUMMARY:Fraktionssitzung der SPD-Fraktion Lichtenberg
DESCRIPTION:Am 22.11.2021 wird die Sitzung der SPD-Fraktion Lichtenberg stattfinden.\nDiese Sitzung dient der Nachbereitung der BVV am 04.11. und der Beratung von Anträgen innerhalb der Fraktion.
URL:https://spd-fraktion-lichtenberg.de/kalender/fraktionssitzung-der-spd-fraktion-lichtenberg/
LOCATION:Rathaus Lichtenberg\, Raum 13a\, Möllendorffstr. 6\, Berlin\, 10367
END:VEVENT
END:VCALENDAR