BEGIN:VCALENDAR
VERSION:2.0
PRODID:-//SPD-Fraktion Lichtenberg - ECPv6.15.20//NONSGML v1.0//EN
CALSCALE:GREGORIAN
METHOD:PUBLISH
X-WR-CALNAME:SPD-Fraktion Lichtenberg
X-ORIGINAL-URL:https://spd-fraktion-lichtenberg.de
X-WR-CALDESC:Veranstaltungen für SPD-Fraktion Lichtenberg
REFRESH-INTERVAL;VALUE=DURATION:PT1H
X-Robots-Tag:noindex
X-PUBLISHED-TTL:PT1H
BEGIN:VTIMEZONE
TZID:Europe/Berlin
BEGIN:DAYLIGHT
TZOFFSETFROM:+0100
TZOFFSETTO:+0200
TZNAME:CEST
DTSTART:20200329T010000
END:DAYLIGHT
BEGIN:STANDARD
TZOFFSETFROM:+0200
TZOFFSETTO:+0100
TZNAME:CET
DTSTART:20201025T010000
END:STANDARD
BEGIN:DAYLIGHT
TZOFFSETFROM:+0100
TZOFFSETTO:+0200
TZNAME:CEST
DTSTART:20210328T010000
END:DAYLIGHT
BEGIN:STANDARD
TZOFFSETFROM:+0200
TZOFFSETTO:+0100
TZNAME:CET
DTSTART:20211031T010000
END:STANDARD
BEGIN:DAYLIGHT
TZOFFSETFROM:+0100
TZOFFSETTO:+0200
TZNAME:CEST
DTSTART:20220327T010000
END:DAYLIGHT
BEGIN:STANDARD
TZOFFSETFROM:+0200
TZOFFSETTO:+0100
TZNAME:CET
DTSTART:20221030T010000
END:STANDARD
END:VTIMEZONE
BEGIN:VEVENT
DTSTART;TZID=Europe/Berlin:20211105T163000
DTEND;TZID=Europe/Berlin:20211105T190000
DTSTAMP:20260424T153537
CREATED:20211104T130731Z
LAST-MODIFIED:20211104T130731Z
UID:8654-1636129800-1636138800@spd-fraktion-lichtenberg.de
SUMMARY:Festakt zur Vergabe der Bürger*innen-Medaille
DESCRIPTION:Am Freitag findet ein Festakt zur Verleihung der Bürger*innen-Medaille statt.\nUnser Vorsitzender Kevin Einenkel wird vor Ort daran teilnehmen. \n  \nMehr Informationen zu dieser Veranstaltung finden Sie hier.
URL:https://spd-fraktion-lichtenberg.de/kalender/festakt-zur-vergabe-der-buergerinnen-medaille/
LOCATION:Berlin
END:VEVENT
END:VCALENDAR