BEGIN:VCALENDAR
VERSION:2.0
PRODID:-//SPD-Fraktion Lichtenberg - ECPv6.15.20//NONSGML v1.0//EN
CALSCALE:GREGORIAN
METHOD:PUBLISH
X-WR-CALNAME:SPD-Fraktion Lichtenberg
X-ORIGINAL-URL:https://spd-fraktion-lichtenberg.de
X-WR-CALDESC:Veranstaltungen für SPD-Fraktion Lichtenberg
REFRESH-INTERVAL;VALUE=DURATION:PT1H
X-Robots-Tag:noindex
X-PUBLISHED-TTL:PT1H
BEGIN:VTIMEZONE
TZID:Europe/Berlin
BEGIN:DAYLIGHT
TZOFFSETFROM:+0100
TZOFFSETTO:+0200
TZNAME:CEST
DTSTART:20200329T010000
END:DAYLIGHT
BEGIN:STANDARD
TZOFFSETFROM:+0200
TZOFFSETTO:+0100
TZNAME:CET
DTSTART:20201025T010000
END:STANDARD
BEGIN:DAYLIGHT
TZOFFSETFROM:+0100
TZOFFSETTO:+0200
TZNAME:CEST
DTSTART:20210328T010000
END:DAYLIGHT
BEGIN:STANDARD
TZOFFSETFROM:+0200
TZOFFSETTO:+0100
TZNAME:CET
DTSTART:20211031T010000
END:STANDARD
BEGIN:DAYLIGHT
TZOFFSETFROM:+0100
TZOFFSETTO:+0200
TZNAME:CEST
DTSTART:20220327T010000
END:DAYLIGHT
BEGIN:STANDARD
TZOFFSETFROM:+0200
TZOFFSETTO:+0100
TZNAME:CET
DTSTART:20221030T010000
END:STANDARD
END:VTIMEZONE
BEGIN:VEVENT
DTSTART;TZID=Europe/Berlin:20211104T170000
DTEND;TZID=Europe/Berlin:20211104T220000
DTSTAMP:20260424T153430
CREATED:20211026T154654Z
LAST-MODIFIED:20211026T154654Z
UID:8624-1636045200-1636063200@spd-fraktion-lichtenberg.de
SUMMARY:Konstituierende BVV-Sitzung
DESCRIPTION:Die Konstituierende Sitzung der Bezirksverordnetenversammlung der neunten (IX.) Wahlperiode\, wird am 04.11.2021 ab 17:00 Uhr stattfinden. \nDas Ganze kann Live auf YouTube mitverfolgt werden.\nFolgen Sie dazu einfach diesem Link. \n \n 
URL:https://spd-fraktion-lichtenberg.de/kalender/konstituierende-bvv-sitzung/
LOCATION:Max-Taut-Aula\, Fischerstraße\, Berlin\, 10317
END:VEVENT
END:VCALENDAR