BEGIN:VCALENDAR
VERSION:2.0
PRODID:-//SPD-Fraktion Lichtenberg - ECPv6.15.20//NONSGML v1.0//EN
CALSCALE:GREGORIAN
METHOD:PUBLISH
X-WR-CALNAME:SPD-Fraktion Lichtenberg
X-ORIGINAL-URL:https://spd-fraktion-lichtenberg.de
X-WR-CALDESC:Veranstaltungen für SPD-Fraktion Lichtenberg
REFRESH-INTERVAL;VALUE=DURATION:PT1H
X-Robots-Tag:noindex
X-PUBLISHED-TTL:PT1H
BEGIN:VTIMEZONE
TZID:Europe/Berlin
BEGIN:DAYLIGHT
TZOFFSETFROM:+0100
TZOFFSETTO:+0200
TZNAME:CEST
DTSTART:20200329T010000
END:DAYLIGHT
BEGIN:STANDARD
TZOFFSETFROM:+0200
TZOFFSETTO:+0100
TZNAME:CET
DTSTART:20201025T010000
END:STANDARD
BEGIN:DAYLIGHT
TZOFFSETFROM:+0100
TZOFFSETTO:+0200
TZNAME:CEST
DTSTART:20210328T010000
END:DAYLIGHT
BEGIN:STANDARD
TZOFFSETFROM:+0200
TZOFFSETTO:+0100
TZNAME:CET
DTSTART:20211031T010000
END:STANDARD
BEGIN:DAYLIGHT
TZOFFSETFROM:+0100
TZOFFSETTO:+0200
TZNAME:CEST
DTSTART:20220327T010000
END:DAYLIGHT
BEGIN:STANDARD
TZOFFSETFROM:+0200
TZOFFSETTO:+0100
TZNAME:CET
DTSTART:20221030T010000
END:STANDARD
END:VTIMEZONE
BEGIN:VEVENT
DTSTART;TZID=Europe/Berlin:20210811T190000
DTEND;TZID=Europe/Berlin:20210811T220000
DTSTAMP:20260424T192006
CREATED:20210702T073743Z
LAST-MODIFIED:20210702T073743Z
UID:8578-1628708400-1628719200@spd-fraktion-lichtenberg.de
SUMMARY:Ausschuss: Eingaben/Beschwerden und Geschäftsordnung
DESCRIPTION:Am 11.08.2021 tagt der Auschuss Eingaben/Beschwerden und Geschäftsordnung\nDie Sitzung ist öffentlich.\nSie finden die Tagesodnung\, als auch die Einladung hier.
URL:https://spd-fraktion-lichtenberg.de/kalender/ausschuss-eingaben-beschwerden-und-geschaeftsordnung/
LOCATION:Berlin
END:VEVENT
BEGIN:VEVENT
DTSTART;TZID=Europe/Berlin:20210811T190000
DTEND;TZID=Europe/Berlin:20210811T220000
DTSTAMP:20260424T192006
CREATED:20210702T073853Z
LAST-MODIFIED:20210702T073905Z
UID:8579-1628708400-1628719200@spd-fraktion-lichtenberg.de
SUMMARY:Ausschuss: Haushalt und Personal
DESCRIPTION:Am 11.08.2021 tagt der Auschuss Haushalt und Personal.\nDie Sitzung ist öffentlich.\nSie finden die Tagesodnung\, als auch die Einladung hier.
URL:https://spd-fraktion-lichtenberg.de/kalender/ausschuss-haushalt-und-personal/
LOCATION:Berlin
END:VEVENT
END:VCALENDAR